BEGIN:VCALENDAR
VERSION:2.0
PRODID:-//Quanten Studio - ECPv6.15.20//NONSGML v1.0//EN
CALSCALE:GREGORIAN
METHOD:PUBLISH
X-WR-CALNAME:Quanten Studio
X-ORIGINAL-URL:https://quanten-studio.com
X-WR-CALDESC:Veranstaltungen für Quanten Studio
REFRESH-INTERVAL;VALUE=DURATION:PT1H
X-Robots-Tag:noindex
X-PUBLISHED-TTL:PT1H
BEGIN:VTIMEZONE
TZID:Europe/Vienna
BEGIN:DAYLIGHT
TZOFFSETFROM:+0100
TZOFFSETTO:+0200
TZNAME:CEST
DTSTART:20250330T010000
END:DAYLIGHT
BEGIN:STANDARD
TZOFFSETFROM:+0200
TZOFFSETTO:+0100
TZNAME:CET
DTSTART:20251026T010000
END:STANDARD
BEGIN:DAYLIGHT
TZOFFSETFROM:+0100
TZOFFSETTO:+0200
TZNAME:CEST
DTSTART:20260329T010000
END:DAYLIGHT
BEGIN:STANDARD
TZOFFSETFROM:+0200
TZOFFSETTO:+0100
TZNAME:CET
DTSTART:20261025T010000
END:STANDARD
BEGIN:DAYLIGHT
TZOFFSETFROM:+0100
TZOFFSETTO:+0200
TZNAME:CEST
DTSTART:20270328T010000
END:DAYLIGHT
BEGIN:STANDARD
TZOFFSETFROM:+0200
TZOFFSETTO:+0100
TZNAME:CET
DTSTART:20271031T010000
END:STANDARD
END:VTIMEZONE
BEGIN:VEVENT
DTSTART;VALUE=DATE:20260604
DTEND;VALUE=DATE:20260605
DTSTAMP:20260423T222229
CREATED:20260407T075230Z
LAST-MODIFIED:20260409T074442Z
UID:25103437-1780531200-1780617599@quanten-studio.com
SUMMARY:Basisseminar zur QuantenMethode (2 Tage) - Termin folgt
DESCRIPTION:Möchtest du neue Wege gehen\, deine Gewohnheiten verändern\, sowie deinen Selbstwert steigern?\nMit der Quantenmethode werden Blockaden und Muster gelöst und deine Bedürfnisse und Wunschziele fließen in dein Leben. \n  \nInhalte: \n\nGrundlagen der QuantenMethode\n· Bewusstsein\, Verstand und Gedanken – Wer bin Ich?\n· Auszug aus der Quantenphysik: Doppelspaltexperiment\n· Hilfreiche Techniken und Tools\n· Du lernst die Selbst-\, Zweier- und Fernanwendung\n· Ablauf der Anwendung mit Übungen und Praxis\n\ndeine Vorteile durch QM: \n\n Geringer Aufwand – große Wirkung\n· Ein tolles Werkzeug – in einfachen Schritten zu erlernen\n· Überall und für jedes Problem / Situation anwendbar\n· Gutes tun – dir Selbst und deinen Liebsten\n· Du hast dein Leben in deiner Hand – entferne selbst alle Hindernisse\n· Werde somit zu deiner besten Version!\n\n  \n„Es braucht nicht viele Worte um Gewaltiges zu bewegen.“ \n  \nbitte um Anmeldungen bei der Seminarleiterin Christine Scharf unter 0664 588 62 41
URL:https://quanten-studio.com/event/basisseminar-zur-quantenmethode-2-tage-termin-folgt/
LOCATION:Seminarraum Premstätten\, Bäckweg 12\, Premstätten\, Steiermark\, 8141\, Austria
ATTACH;FMTTYPE=image/png:https://quanten-studio.com/wp-content/uploads/2026/04/Basisseminar.png
ORGANIZER;CN="Christine Scharf%2C BSc":MAILTO:office@quanten-studio.com
END:VEVENT
END:VCALENDAR